BEGIN:VCALENDAR
PRODID:-//github.com/rianjs/ical.net//NONSGML ical.net 4.0//EN
VERSION:2.0
BEGIN:VEVENT
DESCRIPTION:Details:\nhttps://bbyo.org/bbyo-near-you/regions/central-regio
 n-west/ic-2020-summit
DTEND;VALUE=DATE:20200217
DTSTAMP:20260421T104902Z
DTSTART;VALUE=DATE:20200213
LOCATION:
SEQUENCE:0
SUMMARY:IC 2020 + Summit (US)
UID:6d1d305f-5eaf-4261-b4df-e2baaa035d51
END:VEVENT
END:VCALENDAR
