BEGIN:VCALENDAR
PRODID:-//github.com/rianjs/ical.net//NONSGML ical.net 4.0//EN
VERSION:2.0
BEGIN:VEVENT
DESCRIPTION:Details:\nhttps://bbyo.org/bbyo-near-you/regions/rocky-mountai
 n-region/test-event-(1)
DTEND:20230818T010000
DTSTAMP:20260419T123021Z
DTSTART;VALUE=DATE:20230818
LOCATION:
SEQUENCE:0
SUMMARY:Test Event
UID:4a43e38f-027e-42b6-9cc2-ca873a0ceda0
END:VEVENT
END:VCALENDAR
