BEGIN:VCALENDAR
PRODID:-//github.com/rianjs/ical.net//NONSGML ical.net 4.0//EN
VERSION:2.0
BEGIN:VEVENT
DESCRIPTION:Details:\nhttps://bbyo.org/bbyo-near-you/regions/kentucky-indi
 ana-ohio-region/cincy-bbyo-yacht-party-kickoff
DTEND:20230909T220000
DTSTAMP:20260422T101408Z
DTSTART:20230909T180000
LOCATION:Cincinnati Ohio
SEQUENCE:0
SUMMARY:Cincy BBYO Yacht Party Kickoff
UID:ddc239f8-04e9-4dc7-b0d3-3836a7c1c940
END:VEVENT
END:VCALENDAR
