BEGIN:VCALENDAR
PRODID:-//github.com/rianjs/ical.net//NONSGML ical.net 4.0//EN
VERSION:2.0
BEGIN:VEVENT
DESCRIPTION:Details:\nhttps://bbyo.org/bbyo-near-you/regions/keystone-moun
 tain-region/new-member-weekend-kallah-convention\n\nSummary:\nFor the fir
 st time in years\, KMR is returning to hosting a Kallah Convention. Kalla
 h is a weekend of engaging programming revolving around Jewish identity\,
  Israel\, spirituality and Jewish va
DTEND:20190303T113000
DTSTAMP:20260422T202317Z
DTSTART:20190301T173000
LOCATION:Mars Pennsylvania
SEQUENCE:0
SUMMARY:New Member Weekend/Kallah Convention
UID:07252869-cd55-4bb2-80aa-8d1dcc958d74
END:VEVENT
END:VCALENDAR
