BEGIN:VCALENDAR
PRODID:-//github.com/rianjs/ical.net//NONSGML ical.net 4.0//EN
VERSION:2.0
BEGIN:VEVENT
DESCRIPTION:Details:\nhttps://bbyo.org/bbyo-near-you/regions/eastern-regio
 n/ohavim/giving-bbyo-day-carnival
DTEND:20231128T203000
DTSTAMP:20260422T182029Z
DTSTART:20231128T190000
LOCATION:Levine JCC
SEQUENCE:0
SUMMARY:Giving BBYO Day Carnival
UID:7d512c24-8f07-4ae9-b5f0-d695b270c480
END:VEVENT
END:VCALENDAR
