BEGIN:VCALENDAR
PRODID:-//github.com/rianjs/ical.net//NONSGML ical.net 4.0//EN
VERSION:2.0
BEGIN:VEVENT
DESCRIPTION:Details:\nhttps://bbyo.org/bbyo-near-you/regions/lonestar-regi
 on/ghc-azaa-week-3
DTEND:20180916T200000
DTSTAMP:20260423T042746Z
DTSTART:20180916T180000
LOCATION:Houston Texas
SEQUENCE:0
SUMMARY:GHC AZAA Week 3
UID:86671711-e689-444e-b9b4-ac14421876ea
END:VEVENT
END:VCALENDAR
