BEGIN:VCALENDAR
PRODID:-//github.com/rianjs/ical.net//NONSGML ical.net 4.0//EN
VERSION:2.0
BEGIN:VEVENT
DESCRIPTION:Details:\nhttps://bbyo.org/bbyo-near-you/regions/evergreen-reg
 ion/portland-j-serve-2020
DTEND:20200405T160000
DTSTAMP:20260422T113509Z
DTSTART:20200405T120000
LOCATION:MJCC and Other Locations
SEQUENCE:0
SUMMARY:Portland J Serve 2020
UID:0d1dc8ca-8e21-4bdd-bfaa-d5ad85bc097b
END:VEVENT
END:VCALENDAR
