BEGIN:VCALENDAR
PRODID:-//github.com/rianjs/ical.net//NONSGML ical.net 4.0//EN
VERSION:2.0
BEGIN:VEVENT
DESCRIPTION:Details:\nhttps://bbyo.org/bbyo-near-you/regions/gold-coast-re
 gion/gcr-ic-swag-bag
DTEND:20220224T235900
DTSTAMP:20260423T093447Z
DTSTART:20220215T060000
LOCATION:
SEQUENCE:0
SUMMARY:GCR / IC SWAG BAG
UID:b3afe343-8349-4734-b8fc-8c85c7128932
END:VEVENT
END:VCALENDAR
