BEGIN:VCALENDAR
PRODID:-//github.com/rianjs/ical.net//NONSGML ical.net 4.0//EN
VERSION:2.0
BEGIN:VEVENT
DESCRIPTION:Details:\nhttps://bbyo.org/bbyo-near-you/regions/miami-region/
 miami-region-global-shabbat-(1)
DTEND:20231226T200000
DTSTAMP:20260422T084849Z
DTSTART:20231208T180000
LOCATION:Coral Gables Florida
SEQUENCE:0
SUMMARY:Miami Region Global Shabbat
UID:17eb46d8-911c-4668-b394-f41fec4e4285
END:VEVENT
END:VCALENDAR
