BEGIN:VCALENDAR
PRODID:-//github.com/rianjs/ical.net//NONSGML ical.net 4.0//EN
VERSION:2.0
BEGIN:VEVENT
DESCRIPTION:Details:\nhttps://bbyo.org/bbyo-near-you/regions/south-jersey-
 region/cancelled-bbgg-powderpuff-practice\n\nSummary:\nBBGG is back in SJ
 R and we are starting it off with powderpuff! Seniors and sophomores will
  play against juniors and freshman.
DTEND:20151004T120000
DTSTAMP:20260424T215437Z
DTSTART:20151004T100000
LOCATION:Katz JCC - field next to Tennis Courts
SEQUENCE:0
SUMMARY:CANCELLED - BBGG Powderpuff Practice
UID:7e5fb93d-97c2-4c3d-a41b-f375e6ce73a8
END:VEVENT
END:VCALENDAR
