BEGIN:VCALENDAR
PRODID:-//github.com/rianjs/ical.net//NONSGML ical.net 4.0//EN
VERSION:2.0
BEGIN:VEVENT
DESCRIPTION:Details:\nhttps://bbyo.org/bbyo-near-you/regions/eastern-regio
 n/eastern-region-spring-cultural-convention\n\nSummary:\nJoin Eastern Reg
 ion for our FIRST EVER Regional and Virtual Spring Cultural Convention! \
 n\nEveryone's favorite convention of the year just got a little bit more 
 exciting! Join the entire regi
DTEND:20210425T120000
DTSTAMP:20260421T043651Z
DTSTART:20210423T190000
LOCATION:Zoom!
SEQUENCE:0
SUMMARY:Eastern Region Spring Cultural Convention
UID:1838a24e-e444-4256-8302-b49976a7f979
END:VEVENT
END:VCALENDAR
