BEGIN:VCALENDAR
PRODID:-//github.com/rianjs/ical.net//NONSGML ical.net 4.0//EN
VERSION:2.0
BEGIN:VEVENT
DESCRIPTION:Details:\nhttps://bbyo.org/bbyo-near-you/regions/gold-coast-re
 gion/march-madness-game
DTEND;VALUE=DATE:20160317
DTSTAMP:20260425T182813Z
DTSTART;VALUE=DATE:20160317
LOCATION:
SEQUENCE:0
SUMMARY:March Madness Game
UID:2a8e060d-af46-4a36-b67b-b62e93740727
END:VEVENT
END:VCALENDAR
