BEGIN:VCALENDAR
PRODID:-//github.com/rianjs/ical.net//NONSGML ical.net 4.0//EN
VERSION:2.0
BEGIN:VEVENT
DESCRIPTION:Details:\nhttps://bbyo.org/bbyo-near-you/regions/central-regio
 n-west/winter-execs-conference-2020\n\nSummary:\nChapter Presidents (or h
 ighest officer if chapter Godol/Nsiah cannot attend)\, join the 68th regi
 onal board and CRW staff team for learning\, fun\, and bonding to help yo
 u prepare for the upcom
DTEND:20200112T120000
DTSTAMP:20260423T195425Z
DTSTART:20200111T220000
LOCATION:Los Altos Town Hall + OFJCC
SEQUENCE:0
SUMMARY:Winter Execs Conference 2020
UID:3d863922-cf3e-43c6-b22c-31dd183ace99
END:VEVENT
END:VCALENDAR
