BEGIN:VCALENDAR
PRODID:-//github.com/rianjs/ical.net//NONSGML ical.net 4.0//EN
VERSION:2.0
BEGIN:VEVENT
DESCRIPTION:Details:\nhttps://bbyo.org/bbyo-near-you/regions/lake-ontario-
 region/lor-2015-09-18-inter-regional-leadership-trainin
DTEND:20150920T140000
DTSTAMP:20260421T073054Z
DTSTART:20150918T170000
LOCATION:Camp Northland-B'nai Brith
SEQUENCE:0
SUMMARY:LOR 2015-09-18 - Inter-Regional Leadership Training Conf.
UID:08709818-5c3d-4e6f-a7c0-d77f1b58a5d6
END:VEVENT
END:VCALENDAR
