BEGIN:VCALENDAR
PRODID:-//github.com/rianjs/ical.net//NONSGML ical.net 4.0//EN
VERSION:2.0
BEGIN:VEVENT
DESCRIPTION:Details:\nhttps://bbyo.org/bbyo-near-you/regions/kentucky-indi
 ana-ohio-region/ic-launch-night-columbus
DTEND:20230928T203000
DTSTAMP:20260423T081839Z
DTSTART:20230928T190000
LOCATION:JCC Bexley
SEQUENCE:0
SUMMARY:IC Launch Night - Columbus
UID:79a345ba-1e32-48aa-9e45-533d9ee2877d
END:VEVENT
END:VCALENDAR
