BEGIN:VCALENDAR
PRODID:-//github.com/rianjs/ical.net//NONSGML ical.net 4.0//EN
VERSION:2.0
BEGIN:VEVENT
DESCRIPTION:Details:\nhttps://bbyo.org/bbyo-near-you/regions/wisconsin-reg
 ion/eden-presents-shabbat-of-love-oneg-(1)
DTEND:20240119T170000
DTSTAMP:20260421T094558Z
DTSTART:20240119T150000
LOCATION:Offices
SEQUENCE:0
SUMMARY:Eden Presents Shabbat of Love Oneg
UID:5c727dd8-6a3e-40da-ae94-917243330e8b
END:VEVENT
END:VCALENDAR
