BEGIN:VCALENDAR
PRODID:-//github.com/rianjs/ical.net//NONSGML ical.net 4.0//EN
VERSION:2.0
BEGIN:VEVENT
DESCRIPTION:Details:\nhttps://bbyo.org/bbyo-near-you/regions/lonestar-regi
 on/greater-houston-council-spring-kickoff-2020
DTEND:20200118T223000
DTSTAMP:20260421T093112Z
DTSTART:20200118T190000
LOCATION:Houston Texas
SEQUENCE:0
SUMMARY:Greater Houston Council Spring Kickoff 2020
UID:6fbfe15b-695f-42ce-81e2-a71a9ab4baca
END:VEVENT
END:VCALENDAR
