BEGIN:VCALENDAR
PRODID:-//github.com/rianjs/ical.net//NONSGML ical.net 4.0//EN
VERSION:2.0
BEGIN:VEVENT
DESCRIPTION:Details:\nhttps://bbyo.org/bbyo-near-you/regions/manhattan-reg
 ion/manhattan-big-apple-leadership-training-overnight-
DTEND;VALUE=DATE:20240825
DTSTAMP:20260425T235443Z
DTSTART;VALUE=DATE:20240823
LOCATION:
SEQUENCE:0
SUMMARY:Manhattan & Big Apple Leadership Training Overnight REMAINING BALA
 NCE
UID:bb275936-a44c-4971-8593-fb1be5c70b5d
END:VEVENT
END:VCALENDAR
