BEGIN:VCALENDAR
PRODID:-//github.com/rianjs/ical.net//NONSGML ical.net 4.0//EN
VERSION:2.0
BEGIN:VEVENT
DESCRIPTION:Details:\nhttps://bbyo.org/bbyo-near-you/regions/pacific-weste
 rn-region/pwr-ic-spirit-packs-(1)\n\nSummary:\nGet ready for the coolest 
 IC Spirit Packs!\n\nYour spirit pack includes: \n\n- Purple Knee Socks \n
 - Purple Blow Horns \n- Purple Bandannas\n- BBYO Cell Phone Card Holder\n
 - Regional T-shirt
DTEND:20160215T170000
DTSTAMP:20260422T031521Z
DTSTART:20160209T170000
LOCATION:PWR BBYO
SEQUENCE:0
SUMMARY:PWR IC Spirit Packs
UID:9d6e7e69-271b-4e07-adf4-980e2c4eb866
END:VEVENT
END:VCALENDAR
