BEGIN:VCALENDAR
PRODID:-//github.com/rianjs/ical.net//NONSGML ical.net 4.0//EN
VERSION:2.0
BEGIN:VEVENT
DESCRIPTION:Details:\nhttps://bbyo.org/bbyo-near-you/regions/wisconsin-reg
 ion/wi-chapter-meetings-01-30-17
DTEND;VALUE=DATE:20170130
DTSTAMP:20260424T063229Z
DTSTART;VALUE=DATE:20170130
LOCATION:
SEQUENCE:0
SUMMARY:WI - Chapter Meetings 01.30.17
UID:b020e243-fa28-4365-b8e3-9760fe426535
END:VEVENT
END:VCALENDAR
