BEGIN:VCALENDAR
PRODID:-//github.com/rianjs/ical.net//NONSGML ical.net 4.0//EN
VERSION:2.0
BEGIN:VEVENT
DESCRIPTION:Details:\nhttps://bbyo.org/bbyo-near-you/regions/greater-jerse
 y-region/central-council-chapter-board-training\n\nSummary:\nChapter Boar
 d Training for CENTRAL COUNCIL.  Mandatory for all teens holding a chapte
 r board position. If you are unable to make this meeting\, you must let y
 our Council counterpart and Amand
DTEND:20160918T130000
DTSTAMP:20260423T081831Z
DTSTART:20160918T110000
LOCATION:Perrineville Jewish Center
SEQUENCE:0
SUMMARY:CENTRAL COUNCIL Chapter Board Training
UID:3a1b5495-b7c8-4e1b-ba2d-d17aa8675472
END:VEVENT
END:VCALENDAR
