BEGIN:VCALENDAR
PRODID:-//github.com/rianjs/ical.net//NONSGML ical.net 4.0//EN
VERSION:2.0
BEGIN:VEVENT
DESCRIPTION:Details:\nhttps://bbyo.org/bbyo-near-you/regions/connecticut-v
 alley-region/cltc-2-2019\n\nSummary:\nAt Chapter Leadership Training Conf
 erence (CLTC)\, you'll discover what it means to be a leader and attain l
 ifelong leadership skills.You'll also gain greater self-confidence\, a se
 nse of Jewi
DTEND:20190623T090000
DTSTAMP:20260423T195701Z
DTSTART;VALUE=DATE:20190611
LOCATION:Montreal Quebec
SEQUENCE:0
SUMMARY:CLTC 2 2019
UID:e54e4a61-afc3-430e-bd62-6408e7d00ff3
END:VEVENT
END:VCALENDAR
