BEGIN:VCALENDAR
PRODID:-//github.com/rianjs/ical.net//NONSGML ical.net 4.0//EN
VERSION:2.0
BEGIN:VEVENT
DESCRIPTION:Details:\nhttps://bbyo.org/bbyo-near-you/regions/manhattan-reg
 ion/waitlist-for-fall-fest-bbyo-manhattan-s-yacht-part\n\nSummary:\nNOTE:
  WE GOT THE BIGGER BOAT! IF YOU REGISTERED USING THIS FORM\, WE'LL SEE YO
 U AT FALL FEST!\n\nREGISTRATION CLOSES TODAY AT 3PM. WE WILL NOT ACCEPT P
 AYMENT AT THE DOOR. \n\nIF YOU ARE REGISTERE
DTEND:20181117T230000
DTSTAMP:20260422T221613Z
DTSTART:20181117T190000
LOCATION:New York New York
SEQUENCE:0
SUMMARY:WAITLIST for Fall Fest: BBYO Manhattan's Yacht Party
UID:40d8732d-5aa7-4905-8160-a9ff0b3b3dca
END:VEVENT
END:VCALENDAR
