BEGIN:VCALENDAR
PRODID:-//github.com/rianjs/ical.net//NONSGML ical.net 4.0//EN
VERSION:2.0
BEGIN:VEVENT
DESCRIPTION:Details:\nhttps://bbyo.org/bbyo-near-you/regions/north-texas-o
 klahoma-region/b-yachad-l-tid-2nd-steering-meeting
DTEND:20231015T150000
DTSTAMP:20260422T221452Z
DTSTART:20231015T130000
LOCATION:JCC
SEQUENCE:0
SUMMARY:B'yachad L'tid 2nd Steering Meeting
UID:6add0e99-1107-40c8-99eb-cced3736ace8
END:VEVENT
END:VCALENDAR
