BEGIN:VCALENDAR
PRODID:-//github.com/rianjs/ical.net//NONSGML ical.net 4.0//EN
VERSION:2.0
BEGIN:VEVENT
DESCRIPTION:Details:\nhttps://bbyo.org/bbyo-near-you/regions/north-texas-o
 klahoma-region/ruach-convention-steering-meeting-(4)
DTEND:20230417T190000
DTSTAMP:20260423T200258Z
DTSTART:20230417T170000
LOCATION:Zoom
SEQUENCE:0
SUMMARY:Ruach Convention Steering Meeting
UID:24c978f7-c174-4eb2-8a58-9068edbd05d5
END:VEVENT
END:VCALENDAR
