BEGIN:VCALENDAR
PRODID:-//github.com/rianjs/ical.net//NONSGML ical.net 4.0//EN
VERSION:2.0
BEGIN:VEVENT
DESCRIPTION:Details:\nhttps://bbyo.org/bbyo-near-you/regions/keystone-moun
 tain-region/kmr-tournies-2021\n\nSummary:\nTournies 2021 is BACK!
DTEND:20211106T223000
DTSTAMP:20260423T200907Z
DTSTART:20211105T163000
LOCATION:South Hills JCC
SEQUENCE:0
SUMMARY:KMR Tournies 2021
UID:c8c6cb86-2c6a-4cd9-99df-3bfe508265a8
END:VEVENT
END:VCALENDAR
