BEGIN:VCALENDAR
PRODID:-//github.com/rianjs/ical.net//NONSGML ical.net 4.0//EN
VERSION:2.0
BEGIN:VEVENT
DESCRIPTION:Details:\nhttps://bbyo.org/bbyo-near-you/regions/wisconsin-reg
 ion/solomoneg
DTEND:20240301T170000
DTSTAMP:20260423T002001Z
DTSTART:20240301T153000
LOCATION:oFFICES
SEQUENCE:0
SUMMARY:SolomONEG
UID:d95d0624-be6c-4b7e-bc34-90a0a438c841
END:VEVENT
END:VCALENDAR
