BEGIN:VCALENDAR
PRODID:-//github.com/rianjs/ical.net//NONSGML ical.net 4.0//EN
VERSION:2.0
BEGIN:VEVENT
DESCRIPTION:Details:\nhttps://bbyo.org/bbyo-near-you/regions/evergreen-reg
 ion/achayot-overnight
DTEND;VALUE=DATE:20180120
DTSTAMP:20260422T062815Z
DTSTART;VALUE=DATE:20180119
LOCATION:
SEQUENCE:0
SUMMARY:Achayot Overnight
UID:028527b8-7a45-41c0-857d-e79c89123f43
END:VEVENT
END:VCALENDAR
