BEGIN:VCALENDAR
PRODID:-//github.com/rianjs/ical.net//NONSGML ical.net 4.0//EN
VERSION:2.0
BEGIN:VEVENT
DESCRIPTION:Details:\nhttps://bbyo.org/bbyo-near-you/regions/hudson-valley
 -region/mani-and-pedi-prospect-night\n\nSummary:\nThis is a Free event fo
 r all members who bring a prospect! If you bring two or more prospects\, 
 you get a free mani AND pedi!
DTEND:20170406T190000
DTSTAMP:20260422T113304Z
DTSTART:20170406T160000
LOCATION:Noblesse Nail & Spa
SEQUENCE:0
SUMMARY:Mani and Pedi Prospect Night
UID:c39116f6-12ab-471c-86dd-baee20cfc026
END:VEVENT
END:VCALENDAR
