BEGIN:VCALENDAR
PRODID:-//github.com/rianjs/ical.net//NONSGML ical.net 4.0//EN
VERSION:2.0
BEGIN:VEVENT
DESCRIPTION:Details:\nhttps://bbyo.org/bbyo-near-you/regions/north-florida
 -region/orlando-bbyo-parent-information-session\n\nSummary:\nParents of t
 eens grades 8-12 are invited to come learn about BBYO in North Florida Re
 gion. See what BBYO has to offer to teens and how to get involved.
DTEND:20190425T193000
DTSTAMP:20260420T100513Z
DTSTART:20190425T190000
LOCATION:Maitland Florida
SEQUENCE:0
SUMMARY:Orlando BBYO Parent Information Session
UID:a5227d76-2f39-4dae-87da-716d2be41677
END:VEVENT
END:VCALENDAR
