BEGIN:VCALENDAR
PRODID:-//github.com/rianjs/ical.net//NONSGML ical.net 4.0//EN
VERSION:2.0
BEGIN:VEVENT
DESCRIPTION:Details:\nhttps://bbyo.org/bbyo-near-you/regions/rocky-mountai
 n-region/rmr-denver-aza-rush-weekend-1
DTEND:20240128T153000
DTSTAMP:20260422T124757Z
DTSTART:20240128T123000
LOCATION:
SEQUENCE:0
SUMMARY:RMR Denver AZA Rush Weekend 1
UID:83a04abb-284e-4e38-b5c6-f49acbbba61f
END:VEVENT
END:VCALENDAR
