BEGIN:VCALENDAR
PRODID:-//github.com/rianjs/ical.net//NONSGML ical.net 4.0//EN
VERSION:2.0
BEGIN:VEVENT
DESCRIPTION:Details:\nhttps://bbyo.org/bbyo-near-you/regions/liberty-regio
 n/liberty-ic-swag-pack\n\nSummary:\nIC Spirit Swag Pack will consist of 1
  T-shirt\, 1 Fanny Pack\, 2 pairs of shoelaces (1 Liberty and 1 Israel) a
 nd 5 Name Tag Ribbons. IT IS ONLY SOLD AS A PACKAGE!\nDon't be left out o
 f the LIB
DTEND:20160215T235900
DTSTAMP:20260419T190532Z
DTSTART:20160209T100000
LOCATION:Regional Office
SEQUENCE:0
SUMMARY:Liberty IC Swag Pack
UID:0bf52c06-b783-45cc-bcc0-9199a48892cd
END:VEVENT
END:VCALENDAR
