BEGIN:VCALENDAR
PRODID:-//github.com/rianjs/ical.net//NONSGML ical.net 4.0//EN
VERSION:2.0
BEGIN:VEVENT
DESCRIPTION:Details:\nhttps://bbyo.org/bbyo-near-you/regions/lonestar-regi
 on/ghc-azaa-basketball-week-5
DTEND:20191124T200000
DTSTAMP:20260422T124818Z
DTSTART:20191124T180000
LOCATION:Houston Texas
SEQUENCE:0
SUMMARY:GHC AZAA Basketball Week 5
UID:4e18684a-bb2c-41e9-b818-9c62289ec6de
END:VEVENT
END:VCALENDAR
