BEGIN:VCALENDAR
PRODID:-//github.com/rianjs/ical.net//NONSGML ical.net 4.0//EN
VERSION:2.0
BEGIN:VEVENT
DESCRIPTION:Details:\nhttps://bbyo.org/bbyo-near-you/regions/north-texas-o
 klahoma-region/ruach-convention-steering-meeting-4
DTEND:20240303T160000
DTSTAMP:20260421T043154Z
DTSTART:20240303T143000
LOCATION:JCC
SEQUENCE:0
SUMMARY:Ruach Convention Steering Meeting #4
UID:fda6148f-d751-431d-a36f-d94bfbf99de4
END:VEVENT
END:VCALENDAR
