BEGIN:VCALENDAR
PRODID:-//github.com/rianjs/ical.net//NONSGML ical.net 4.0//EN
VERSION:2.0
BEGIN:VEVENT
DESCRIPTION:Details:\nhttps://bbyo.org/bbyo-near-you/regions/eastern-regio
 n/regional-exec-s-convention-3000\n\nSummary:\nRegional Execs "Courage of
  a Lion\, Strength of a Leader" is a convention for all council and chapt
 er officers. At this convention\, council and chapter leadership will be 
 attending positio
DTEND:20150823T120000
DTSTAMP:20260423T195207Z
DTSTART:20150821T183000
LOCATION:Camp Weaver
SEQUENCE:0
SUMMARY:Regional Exec's Convention 3000
UID:37282a2a-9e60-4881-a3ae-8c571d5b039f
END:VEVENT
END:VCALENDAR
