BEGIN:VCALENDAR
PRODID:-//github.com/rianjs/ical.net//NONSGML ical.net 4.0//EN
VERSION:2.0
BEGIN:VEVENT
DESCRIPTION:Details:\nhttps://bbyo.org/bbyo-near-you/regions/kentucky-indi
 ana-ohio-region/global-shabbat-columbus
DTEND:20231208T203000
DTSTAMP:20260421T163615Z
DTSTART:20231208T183000
LOCATION:Jess Handmaker's House
SEQUENCE:0
SUMMARY:Global Shabbat Columbus
UID:0ff7aa17-f28e-4114-934d-c886bb3b5226
END:VEVENT
END:VCALENDAR
