BEGIN:VCALENDAR
PRODID:-//github.com/rianjs/ical.net//NONSGML ical.net 4.0//EN
VERSION:2.0
BEGIN:VEVENT
DESCRIPTION:Details:\nhttps://bbyo.org/bbyo-near-you/regions/manhattan-reg
 ion/manhattan-region-winter-convention-2015-(pc3010)\n\nSummary:\nFor BBY
 O members only! Become a member at www.bbyo.org/membership.\n\nWinter Con
 vention: December 4-6\, 2015 at the Crowne Plaza Hotel in Danbury\, CT. J
 oin with Big Apple Region and Westchest
DTEND:20151206T110000
DTSTAMP:20260425T183157Z
DTSTART:20151204T160000
LOCATION:Danbury\, CT
SEQUENCE:0
SUMMARY:Manhattan Region - Winter Convention 2015 (PC3010)
UID:3bf64a51-c118-4256-811c-48e62e58b217
END:VEVENT
END:VCALENDAR
