BEGIN:VCALENDAR
PRODID:-//github.com/rianjs/ical.net//NONSGML ical.net 4.0//EN
VERSION:2.0
BEGIN:VEVENT
DESCRIPTION:Details:\nhttps://bbyo.org/bbyo-near-you/regions/nassau-suffol
 k-region/nsr-fall-kickoff-2017
DTEND:20171014T000100
DTSTAMP:20260423T200214Z
DTSTART;VALUE=DATE:20171014
LOCATION:
SEQUENCE:0
SUMMARY:NSR Fall Kickoff 2017
UID:77142a40-0b05-4189-9349-d1ae895b390d
END:VEVENT
END:VCALENDAR
