BEGIN:VCALENDAR
PRODID:-//github.com/rianjs/ical.net//NONSGML ical.net 4.0//EN
VERSION:2.0
BEGIN:VEVENT
DESCRIPTION:Details:\nhttps://bbyo.org/bbyo-near-you/regions/lonestar-regi
 on/san-antonio-bbyo-fall-kickoff
DTEND:20240907T220000
DTSTAMP:20260421T105940Z
DTSTART:20240907T200000
LOCATION:San Antonio  Texas
SEQUENCE:0
SUMMARY:San Antonio BBYO Fall Kickoff
UID:b8dd8c22-fbf0-4ed0-8f35-618d30bc415d
END:VEVENT
END:VCALENDAR
