BEGIN:VCALENDAR
PRODID:-//github.com/rianjs/ical.net//NONSGML ical.net 4.0//EN
VERSION:2.0
BEGIN:VEVENT
DESCRIPTION:Details:\nhttps://bbyo.org/bbyo-near-you/regions/hudson-valley
 -region/sababa-bbyo-rlti-chapter-planning
DTEND:20200913T130000
DTSTAMP:20260422T202544Z
DTSTART:20200913T100000
LOCATION:
SEQUENCE:0
SUMMARY:Sababa BBYO RLTI Chapter Planning
UID:e2a157ac-b155-4a62-ae29-560abc7a7daf
END:VEVENT
END:VCALENDAR
