BEGIN:VCALENDAR
PRODID:-//github.com/rianjs/ical.net//NONSGML ical.net 4.0//EN
VERSION:2.0
BEGIN:VEVENT
DESCRIPTION:Details:\nhttps://bbyo.org/bbyo-near-you/regions/ohio-northern
 -region/onr-kallah-2017
DTEND;VALUE=DATE:20171112
DTSTAMP:20260423T200029Z
DTSTART;VALUE=DATE:20171110
LOCATION:
SEQUENCE:0
SUMMARY:ONR: Kallah 2017
UID:309c3e52-ebce-4091-b06e-25b3d248e059
END:VEVENT
END:VCALENDAR
