BEGIN:VCALENDAR
PRODID:-//github.com/rianjs/ical.net//NONSGML ical.net 4.0//EN
VERSION:2.0
BEGIN:VEVENT
DESCRIPTION:Details:\nhttps://bbyo.org/bbyo-near-you/regions/wisconsin-reg
 ion/hello-neg
DTEND:20240913T170000
DTSTAMP:20260423T043101Z
DTSTART:20240913T153000
LOCATION:Offices
SEQUENCE:0
SUMMARY:Hello-Neg
UID:99cd1c16-b261-40fc-ae36-bab1448e2655
END:VEVENT
END:VCALENDAR
