BEGIN:VCALENDAR
PRODID:-//github.com/rianjs/ical.net//NONSGML ical.net 4.0//EN
VERSION:2.0
BEGIN:VEVENT
DESCRIPTION:Details:\nhttps://bbyo.org/bbyo-near-you/regions/nassau-suffol
 k-region/nsr-fall-bbgg-zumba
DTEND:20221120T160000
DTSTAMP:20260425T183357Z
DTSTART:20221120T143000
LOCATION:Plainview New York
SEQUENCE:0
SUMMARY:NSR Fall BBGG Zumba
UID:d38fa70d-e0ae-40a4-b115-235a5e7bd9f1
END:VEVENT
END:VCALENDAR
