BEGIN:VCALENDAR
PRODID:-//github.com/rianjs/ical.net//NONSGML ical.net 4.0//EN
VERSION:2.0
BEGIN:VEVENT
DESCRIPTION:Details:\nhttps://bbyo.org/bbyo-near-you/regions/wisconsin-reg
 ion/oneg-(october-20\,-2006)
DTEND:20061020T160000
DTSTAMP:20260420T100520Z
DTSTART:20061020T151500
LOCATION:BBYO TEMPORARY OFFICES
SEQUENCE:0
SUMMARY:Oneg (October 20\, 2006)
UID:0f3c1cb5-b670-4454-98eb-d5826abd1262
END:VEVENT
END:VCALENDAR
