BEGIN:VCALENDAR
PRODID:-//github.com/rianjs/ical.net//NONSGML ical.net 4.0//EN
VERSION:2.0
BEGIN:VEVENT
DESCRIPTION:Details:\nhttps://bbyo.org/bbyo-near-you/regions/michigan-regi
 on/ic-stand-up-cause-program\n\nSummary:\nJoin Michigan Region as we educ
 ate about our our stand up cause "Covid Community Relief Fund" as well as
  write letters for the elderly and frontline workers.
DTEND:20210214T180000
DTSTAMP:20260421T043154Z
DTSTART:20210214T160000
LOCATION:
SEQUENCE:0
SUMMARY:IC Stand Up Cause Program
UID:ee39f710-2a0e-4e9c-9d7a-877a54ee8885
END:VEVENT
END:VCALENDAR
