BEGIN:VCALENDAR
PRODID:-//github.com/rianjs/ical.net//NONSGML ical.net 4.0//EN
VERSION:2.0
BEGIN:VEVENT
DESCRIPTION:Details:\nhttps://bbyo.org/bbyo-near-you/regions/eastern-regio
 n/eastern-regional-exec-s-council-board-training-add\n\nSummary:\nAll Cou
 ncil Board members\, Virginia and North Carolina will participate in East
 ern Region's first ever Council Board Leadership Training Event.
DTEND:20160819T170000
DTSTAMP:20260422T113655Z
DTSTART:20160818T170000
LOCATION:Camp Weaver
SEQUENCE:0
SUMMARY:Eastern Regional Exec's Council Board Training Add On 3000
UID:4110a737-3361-45f7-87c8-8d37859702d0
END:VEVENT
END:VCALENDAR
