BEGIN:VCALENDAR
PRODID:-//github.com/rianjs/ical.net//NONSGML ical.net 4.0//EN
VERSION:2.0
BEGIN:VEVENT
DESCRIPTION:Details:\nhttps://bbyo.org/bbyo-near-you/regions/south-jersey-
 region/sjr-bbg-and-bbyo-virtual-intake-night!\n\nSummary:\nCalling all fu
 ture SJR BBYO Members!\n\nJOIN US at our Virtual Intake Night to learn ab
 out all of our chapters. This session is for all female identifying or no
 n-binary teens to learn about ou
DTEND:20200830T210000
DTSTAMP:20260423T020459Z
DTSTART:20200830T190000
LOCATION:Zoom
SEQUENCE:0
SUMMARY:SJR BBG and BBYO Virtual Intake Night!
UID:f5e50995-e8e9-485b-b04f-7bfdd5fd46ea
END:VEVENT
END:VCALENDAR
