BEGIN:VCALENDAR
PRODID:-//github.com/rianjs/ical.net//NONSGML ical.net 4.0//EN
VERSION:2.0
BEGIN:VEVENT
DESCRIPTION:Details:\nhttps://bbyo.org/bbyo-near-you/regions/rocky-mountai
 n-region/teen-community-wide-shabbat-for-israel
DTEND:20231013T180000
DTSTAMP:20260423T002447Z
DTSTART:20231013T170000
LOCATION:Temple Sinai Denver
SEQUENCE:0
SUMMARY:Teen Community Wide Shabbat for Israel
UID:8409f310-83e7-459d-82b5-a0e3f599b418
END:VEVENT
END:VCALENDAR
