BEGIN:VCALENDAR
PRODID:-//github.com/rianjs/ical.net//NONSGML ical.net 4.0//EN
VERSION:2.0
BEGIN:VEVENT
DESCRIPTION:Details:\nhttps://bbyo.org/bbyo-near-you/regions/lonestar-regi
 on/houston-azaa-basketball-week-2\n\nSummary:\nYou must be registered for
  the league to attend.
DTEND:20211003T180000
DTSTAMP:20260422T144137Z
DTSTART:20211003T160000
LOCATION:Beren Academy
SEQUENCE:0
SUMMARY:Houston AZAA Basketball Week 2
UID:2b1e615a-cf29-49b1-851a-4e933a1dda6e
END:VEVENT
END:VCALENDAR
