BEGIN:VCALENDAR
PRODID:-//github.com/rianjs/ical.net//NONSGML ical.net 4.0//EN
VERSION:2.0
BEGIN:VEVENT
DESCRIPTION:Details:\nhttps://bbyo.org/bbyo-near-you/regions/eastern-regio
 n/mock-mitzvah-presents-the-masquerade-ball
DTEND:20230304T223000
DTSTAMP:20260423T195521Z
DTSTART:20230304T193000
LOCATION:Durham JCC
SEQUENCE:0
SUMMARY:Mock Mitzvah Presents: The Masquerade Ball
UID:fa332ca0-30d6-4646-a387-c1f25189f967
END:VEVENT
END:VCALENDAR
